BEGIN:VCALENDAR
VERSION:2.0
PRODID:-//Česká neurologická společnost - ECPv4.8.1//NONSGML v1.0//EN
CALSCALE:GREGORIAN
METHOD:PUBLISH
X-WR-CALNAME:Česká neurologická společnost
X-ORIGINAL-URL:https://www.czech-neuro.cz
X-WR-CALDESC:Events for Česká neurologická společnost
BEGIN:VEVENT
DTSTART;VALUE=DATE:20260428
DTEND;VALUE=DATE:20260429
DTSTAMP:20260425T144721
CREATED:20260416T130224Z
LAST-MODIFIED:20260416T130224Z
UID:16381-1777334400-1777420799@www.czech-neuro.cz
SUMMARY:Výzvy české medicíny
DESCRIPTION:Pozvánka a program  \n
URL:https://www.czech-neuro.cz/udalost/vyzvy-ceske-mediciny/
CATEGORIES:Česká republika
END:VEVENT
END:VCALENDAR