BEGIN:VCALENDAR
VERSION:2.0
PRODID:-//Česká neurologická společnost - ECPv4.8.1//NONSGML v1.0//EN
CALSCALE:GREGORIAN
METHOD:PUBLISH
X-WR-CALNAME:Česká neurologická společnost
X-ORIGINAL-URL:https://www.czech-neuro.cz
X-WR-CALDESC:Events for Česká neurologická společnost
BEGIN:VEVENT
DTSTART;VALUE=DATE:20250207
DTEND;VALUE=DATE:20250208
DTSTAMP:20260426T032319
CREATED:20250115T184357Z
LAST-MODIFIED:20250123T105649Z
UID:14901-1738886400-1738972799@www.czech-neuro.cz
SUMMARY:V. Motolský Neurootologický den
DESCRIPTION:Pozvánka a program ZDE \n
URL:https://www.czech-neuro.cz/udalost/v-motolsky-neurootologicky-den/
LOCATION:Neurologická klinika 2. LF UK a FN Motol
CATEGORIES:Česká republika
END:VEVENT
END:VCALENDAR