BEGIN:VCALENDAR
VERSION:2.0
PRODID:-//Česká neurologická společnost - ECPv4.8.1//NONSGML v1.0//EN
CALSCALE:GREGORIAN
METHOD:PUBLISH
X-WR-CALNAME:Česká neurologická společnost
X-ORIGINAL-URL:https://www.czech-neuro.cz
X-WR-CALDESC:Events for Česká neurologická společnost
BEGIN:VEVENT
DTSTART;VALUE=DATE:20260225
DTEND;VALUE=DATE:20260226
DTSTAMP:20260425T183549
CREATED:20251020T082315Z
LAST-MODIFIED:20251020T082315Z
UID:15734-1771977600-1772063999@www.czech-neuro.cz
SUMMARY:Techcare 2026
DESCRIPTION:Vážené dámy\, vážení pánové\, \nrádi bychom Vás srdečně pozvali na konferenci TechCare\, která propojuje nejmodernější technologie a inovace v oblasti zdravotní péče. Akce proběhne 25.2. 2026 v Kulturním centru 101010 ve Vratislavicích\, Liberec 30. \nKonferencí Vás provede MUDr. Tomáš Šebek\, jehož zkušenosti a přehled v oblasti digitalizace zdravotnictví přinesou inspiraci a směr pro implementaci inovativních řešení. Čekají Vás bloky přednášek od špičkových odborníků na téma Zdraví\, inovace a věda; Technologie\, které pomáhají; Startup Blok a paralelní kulaté stoly na Vámi vybrané téma. \nProgram a další podrobnosti o konferenci najdete na webu www.techcare2026.cz. \n  \n
URL:https://www.czech-neuro.cz/udalost/techcare-2026/
LOCATION:Česká republika – Liberec\, Liberec\, Česká republika
CATEGORIES:Česká republika
END:VEVENT
END:VCALENDAR