BEGIN:VCALENDAR
VERSION:2.0
PRODID:-//Česká neurologická společnost - ECPv4.8.1//NONSGML v1.0//EN
CALSCALE:GREGORIAN
METHOD:PUBLISH
X-WR-CALNAME:Česká neurologická společnost
X-ORIGINAL-URL:https://www.czech-neuro.cz
X-WR-CALDESC:Events for Česká neurologická společnost
BEGIN:VEVENT
DTSTART;TZID=Europe/Prague:20251010T080000
DTEND;TZID=Europe/Prague:20251010T170000
DTSTAMP:20260426T012331
CREATED:20251010T070529Z
LAST-MODIFIED:20251010T070529Z
UID:15686-1760083200-1760115600@www.czech-neuro.cz
SUMMARY:Nové záznamy na CzechNeurOnline
DESCRIPTION:Na vzdělávacím portále ČNS www.CzechNeurOnline.cz jsou nyní k dispozici vybrané záznamy z Pokročilého kurzu Alzheimerova nemoc\, Parkinsonova nemoc a jiné mozkové neurodegenerace\, který se konal 26.–27. září 2025 v Brně. \nDěkujeme společnosti TA-service s.r.o. za umožnění sdílení záznamů z této akce. \n
URL:https://www.czech-neuro.cz/udalost/nove-zaznamy-na-czechneuronline/
ATTACH;FMTTYPE=image/jpeg:https://www.czech-neuro.cz/content/uploads/2022/09/cns_videoknihovna_slide_16ku9.jpg
END:VEVENT
END:VCALENDAR