BEGIN:VCALENDAR
VERSION:2.0
PRODID:-//Česká neurologická společnost - ECPv4.8.1//NONSGML v1.0//EN
CALSCALE:GREGORIAN
METHOD:PUBLISH
X-WR-CALNAME:Česká neurologická společnost
X-ORIGINAL-URL:https://www.czech-neuro.cz
X-WR-CALDESC:Events for Česká neurologická společnost
BEGIN:VEVENT
DTSTART;VALUE=DATE:20250626
DTEND;VALUE=DATE:20250629
DTSTAMP:20260426T012900
CREATED:20250414T113428Z
LAST-MODIFIED:20250423T125247Z
UID:15237-1750896000-1751155199@www.czech-neuro.cz
SUMMARY:LETNÍ SPÁNKOVÁ ŠKOLA
DESCRIPTION:Pozvánka a registrace – ZDE \nCílem letní spánkové školy je seznámit odbornou veřejnost\, primárně lékaře se zájmem o spánkovou medicínu\, s aktuálními přístupy k diagnostice a léčbě jednotlivých poruch spánku (insomnie\, hypersomnie\, parasomnie\, poruchy pohybu ve spánku\, poruchy dýchání ve spánku a poruchy cirkadiánních rytmů) s ohledem na praktické využití získaných dovedností. Tříhodinové bloky věnované jednotlivě každé skupině spánkových onemocnění budou zaměřeny na každodenní klinickou praxi – více informací je v příloze či na stránkách NUDZ. \n  \n \n
URL:https://www.czech-neuro.cz/udalost/letni-spankova-skola/
LOCATION:NUDZ Klecany\, Klecany\, Česká republika
CATEGORIES:Česká republika
END:VEVENT
END:VCALENDAR