BEGIN:VCALENDAR
VERSION:2.0
PRODID:-//Česká neurologická společnost - ECPv4.8.1//NONSGML v1.0//EN
CALSCALE:GREGORIAN
METHOD:PUBLISH
X-WR-CALNAME:Česká neurologická společnost
X-ORIGINAL-URL:https://www.czech-neuro.cz
X-WR-CALDESC:Events for Česká neurologická společnost
BEGIN:VEVENT
DTSTART;VALUE=DATE:20251031
DTEND;VALUE=DATE:20251101
DTSTAMP:20260425T221902
CREATED:20251015T124450Z
LAST-MODIFIED:20251015T124450Z
UID:15710-1761868800-1761955199@www.czech-neuro.cz
SUMMARY:Kurz - Preskripce mechanických a elektrických vozíků\, zajištění správného sedu na vozíku
DESCRIPTION:Zveme Vás na kurz Preskripce mechanických a elektrických vozíků\, zajištění správného sedu na vozíku. \nPřednášejícími budou paní MUDr. Lia Vašíčková\, Ph.D. a vedoucí revizní lékař VZP paní MUDr. Eva Týblová. \nKurz bude rovněž doplněn i praktickou ukázkou mechanických a elektrických vozíků se zaměřením na správnou preskripci a indikaci těchto zdravotnických prostředků. \nBližší informace ke kurzu naleznete na tomto odkazu. \n
URL:https://www.czech-neuro.cz/udalost/kurz-preskripce-mechanickych-a-elektrickych-voziku-zajisteni-spravneho-sedu-na-voziku/
LOCATION:Hotel ILF Praha\, Budějovická 15\, Praha 4\, Praha\, 141 00
CATEGORIES:Česká republika
END:VEVENT
END:VCALENDAR