BEGIN:VCALENDAR
VERSION:2.0
PRODID:-//Česká neurologická společnost - ECPv4.8.1//NONSGML v1.0//EN
CALSCALE:GREGORIAN
METHOD:PUBLISH
X-WR-CALNAME:Česká neurologická společnost
X-ORIGINAL-URL:https://www.czech-neuro.cz
X-WR-CALDESC:Events for Česká neurologická společnost
BEGIN:VEVENT
DTSTART;TZID=Europe/Prague:20250213T161500
DTEND;TZID=Europe/Prague:20250213T161500
DTSTAMP:20260426T032136
CREATED:20250108T065304Z
LAST-MODIFIED:20250108T065418Z
UID:14846-1739463300-1739463300@www.czech-neuro.cz
SUMMARY:Kazuistický seminář Autoimunitní encefalitidy v praxi
DESCRIPTION:Centrum pro autoimunitní encefalitidy Motol při Neurologické klinice  2. LF UK a FN Motol\nVás srdečně zvou na online kazuistický seminář \nWebinář má sloužit ke sdílení zkušeností v diagnostice a léčbě autoimunitních encefalitid. \nAutoimunitní encefalitidy v praxi\nTermín: Čtvrtek\, 13. února 2025\, 16:15 \nForma: Online (přístupové údaje budou zaslány po registraci) \nObsah semináře:\nWebinář se zaměří na sdílení klinických zkušeností a aktuálních poznatků v diagnostice a léčbě autoimunitních encefalitid. Prezentovány budou: \n– Kazuistiky z Centra pro autoimunitní encefalitidy Motol. \n– Diskuze nad kazuistikami přihlášených účastníků. \nSeminář potrvá přibližně 60 minut a zahrne 3-4 případové studie. \nPřihlášení:\nRegistraci proveďte nejpozději do 1. února 2025 na email neuroimunologie@fnmotol.cz. \nUveďte prosím: \n– Vaše jméno a instituci. \n– Pokud chcete prezentovat vlastní kazuistiku\, přiložte stručný souhrn anamnézy\, pomocných metod a MR nálezů. \nOrganizátoři se těší na Vaši účast:\nMUDr. Martin Elišák\, Ph.D.\, MUDr. Hana Mojžišová\, Ph.D.\, MUDr. David Krýsl\, Ph.D. \n
URL:https://www.czech-neuro.cz/udalost/kazuisticky-seminar-autoimunitni-encefalitidy-v-praxi/
CATEGORIES:Česká republika
END:VEVENT
END:VCALENDAR