BEGIN:VCALENDAR
VERSION:2.0
PRODID:-//Česká neurologická společnost - ECPv4.8.1//NONSGML v1.0//EN
CALSCALE:GREGORIAN
METHOD:PUBLISH
X-WR-CALNAME:Česká neurologická společnost
X-ORIGINAL-URL:https://www.czech-neuro.cz
X-WR-CALDESC:Events for Česká neurologická společnost
BEGIN:VEVENT
DTSTART;TZID=Europe/Prague:20250217T160000
DTEND;TZID=Europe/Prague:20250217T180000
DTSTAMP:20260426T032556
CREATED:20250210T173452Z
LAST-MODIFIED:20250210T173540Z
UID:15021-1739808000-1739815200@www.czech-neuro.cz
SUMMARY:EPILEPTOLOGIE A SPÁNKOVÁ MEDICÍNA
DESCRIPTION:seminář pořádaný Neurologickou klinikou FN Ostrava\, Katedrou klinických neurověd LF OU ve spolupráci s Českou lékařskou komorou na téma: \n EPILEPTOLOGIE A SPÁNKOVÁ MEDICÍNA \nSeminář se uskuteční v pondělí 17.02.2025 od 16:00 hod. v zasedací místnosti Domova sester FN Ostrava na adrese 17. listopadu 1790/5\, Ostrava-Poruba. \nPřihlášení k semináři prosím proveďte zde → https://www.fno.cz/kongresy-a-seminare/registrace-na-seminar-epileptologie-a-spankova-medicina \nKoordinátorkou semináře je MUDr. Jana Slonková\, Ph.D.\nAkce je ohodnocena ČLK 2 kredity.\nObčerstvení zajištěno. \nPozvánka:https://www.fno.cz/documents/kongresy-a-seminare/CCF_000326.pdf \nInformace naleznete zde: https://www.fno.cz/kongresy-a-seminare \n
URL:https://www.czech-neuro.cz/udalost/epileptologie-a-spankova-medicina-2/
CATEGORIES:Česká republika
END:VEVENT
END:VCALENDAR