BEGIN:VCALENDAR
VERSION:2.0
PRODID:-//Česká neurologická společnost - ECPv4.8.1//NONSGML v1.0//EN
CALSCALE:GREGORIAN
METHOD:PUBLISH
X-WR-CALNAME:Česká neurologická společnost
X-ORIGINAL-URL:https://www.czech-neuro.cz
X-WR-CALDESC:Events for Česká neurologická společnost
BEGIN:VEVENT
DTSTART;VALUE=DATE:20250403
DTEND;VALUE=DATE:20250405
DTSTAMP:20260426T031251
CREATED:20240620T122217Z
LAST-MODIFIED:20250108T063530Z
UID:14425-1743638400-1743811199@www.czech-neuro.cz
SUMMARY:AdvanceMed2025
DESCRIPTION:Téma: Umělá inteligence ve zdravotnictví a digitální technologie v medicíně\nDatum: 3. a 4. dubna 2025 (pre-sympozium plánováno na 2. dubna 2025)\nMísto: Multifunkční hala GONG\, Dolní oblast Vítkovice\, Ostrava\nMotto konference zní: „Inovace bez hranic & příležitosti pro všechny“.  \nPozvání na konferenci přijali top výzkumníci v oblasti AI a inovací – blíže viz: https://advancemed.cz/aktuality/. \nProgram a organizace konference si kladou za jeden z cílů sdílet poznatky a vize s předními českými i mezinárodními experty\, zástupci z řad akademiků\, studentů\, zdravotníků\, manažerů ve zdravotnictví\, programátorů a vývojářů\, zástupců ministerstev a zdravotních pojišťoven\, start-upů a spin-offů\, velkých i malých hráčů v oblasti zdravotnické techniky a farmacie\, technologických nadšenců a v neposlední řadě milovníků inovací. \nZáštitu nad konferencí převzali: Ministerstvo zdravotnictví ČR\, Ministerstvo průmyslu a obchodu ČR\, rektor VŠB-TUO\, rektor OU\, ředitel Fakultní nemocnice Ostrava\, děkan Lékařské fakulty OU a odborné společnosti ČLS JEP – Česká společnost pro umělou inteligenci a inovativní digitální technologie v medicíně\, Česká neurologická společnost a Česká kardiologická společnost. \n  \n
URL:https://www.czech-neuro.cz/udalost/advancemed2025/
LOCATION:Dolní Vítkovice\, Ostrava\, Ostrava\, Česká republika
CATEGORIES:Česká republika
ATTACH;FMTTYPE=image/jpeg:https://www.czech-neuro.cz/content/uploads/2024/06/advancemed-simple-1920x1080_page-0001-scaled.jpg
END:VEVENT
END:VCALENDAR