BEGIN:VCALENDAR
VERSION:2.0
PRODID:-//Česká neurologická společnost - ECPv4.8.1//NONSGML v1.0//EN
CALSCALE:GREGORIAN
METHOD:PUBLISH
X-WR-CALNAME:Česká neurologická společnost
X-ORIGINAL-URL:https://www.czech-neuro.cz
X-WR-CALDESC:Events for Česká neurologická společnost
BEGIN:VEVENT
DTSTART;VALUE=DATE:20250604
DTEND;VALUE=DATE:20250607
DTSTAMP:20260426T030923
CREATED:20250217T170046Z
LAST-MODIFIED:20250217T170046Z
UID:15051-1748995200-1749254399@www.czech-neuro.cz
SUMMARY:53. slovenský a český cerebrovaskulárny kongres
DESCRIPTION: \n
URL:https://www.czech-neuro.cz/udalost/53-slovensky-a-cesky-cerebrovaskularny-kongres/
LOCATION:Grand Hotel Bellevue\, Horný Smokovec 21\, 062 01\, Slovensko
CATEGORIES:Zahraničí
END:VEVENT
END:VCALENDAR