BEGIN:VCALENDAR
VERSION:2.0
PRODID:-//Česká neurologická společnost - ECPv4.8.1//NONSGML v1.0//EN
CALSCALE:GREGORIAN
METHOD:PUBLISH
X-WR-CALNAME:Česká neurologická společnost
X-ORIGINAL-URL:https://www.czech-neuro.cz
X-WR-CALDESC:Events for Česká neurologická společnost
BEGIN:VEVENT
DTSTART;VALUE=DATE:20251008
DTEND;VALUE=DATE:20251009
DTSTAMP:20260425T234539
CREATED:20250409T092059Z
LAST-MODIFIED:20250904T085810Z
UID:15225-1759881600-1759967999@www.czech-neuro.cz
SUMMARY:44. Lukášův den průmyslové neurologie a neurotoxikologie
DESCRIPTION:Vážené kolegyně\, vážení kolegové\, \ndovoluji si vás pozvat na 44. Lukášův den průmyslové neurologie a neurotoxikologie\, který se bude konat ve středu  8. 10. 2025  v Lékařském domě na Praze 2 (viz přiložený program). Akce je bezplatná a garantovaná ČLK s připsáním 5 kreditů. \nTéto tradiční akce se vedle neurologů účastní i kolegové z pracovního lékařství\, toxikologického informačního centra\, hygienici i zástupci Ministerstva zdravotnictví. \nLze tak využít zajímavé a důležité možnosti mezioborové diskuse. \nS přáním všeho dobrého \nMUDr. Petr Klepiš\nPředseda sekce neurotoxikologie a průmyslové neurologie\nKlinika pracovního lékařství VFN\n1.LF UK Praha \n
URL:https://www.czech-neuro.cz/udalost/44-lukasuv-den-prumyslove-neurologie-a-neurotoxikologie/
LOCATION:Lékařský dům\, Sokolská 31\, Praha 2\, Česká republika
GEO:50.0750689;14.4350772
X-APPLE-STRUCTURED-LOCATION;VALUE=URI;X-ADDRESS=Lékařský dům Sokolská 31 Praha 2 Česká republika;X-APPLE-RADIUS=500;X-TITLE=Sokolská 31:geo:14.4350772,50.0750689
CATEGORIES:Česká republika,Akce sekcí
END:VEVENT
END:VCALENDAR