BEGIN:VCALENDAR
VERSION:2.0
PRODID:-//Česká neurologická společnost - ECPv4.8.1//NONSGML v1.0//EN
CALSCALE:GREGORIAN
METHOD:PUBLISH
X-WR-CALNAME:Česká neurologická společnost
X-ORIGINAL-URL:https://www.czech-neuro.cz
X-WR-CALDESC:Events for Česká neurologická společnost
BEGIN:VEVENT
DTSTART;VALUE=DATE:20271124
DTEND;VALUE=DATE:20271127
DTSTAMP:20260425T181811
CREATED:20260416T130006Z
LAST-MODIFIED:20260416T130006Z
UID:16378-1827014400-1827273599@www.czech-neuro.cz
SUMMARY:40. český a slovenský neurologický sjezd
DESCRIPTION:
URL:https://www.czech-neuro.cz/udalost/40-cesky-a-slovensky-neurologicky-sjezd/
LOCATION:T Arena Brno\, Brno\, Czech Republic
CATEGORIES:Česká republika,Akce ČNS
END:VEVENT
END:VCALENDAR