BEGIN:VCALENDAR
VERSION:2.0
PRODID:-//Česká neurologická společnost - ECPv4.8.1//NONSGML v1.0//EN
CALSCALE:GREGORIAN
METHOD:PUBLISH
X-WR-CALNAME:Česká neurologická společnost
X-ORIGINAL-URL:https://www.czech-neuro.cz
X-WR-CALDESC:Events for Česká neurologická společnost
BEGIN:VEVENT
DTSTART;VALUE=DATE:20250523
DTEND;VALUE=DATE:20250525
DTSTAMP:20260426T011955
CREATED:20250314T131803Z
LAST-MODIFIED:20250317T102607Z
UID:15137-1747958400-1748131199@www.czech-neuro.cz
SUMMARY:2. Neuro-oftalmologické fórum
DESCRIPTION: \n
URL:https://www.czech-neuro.cz/udalost/2-neuro-oftalmologicke-forum/
LOCATION:Kongresové centrum Masarykovy koleje\, Praha 6
CATEGORIES:Česká republika
END:VEVENT
END:VCALENDAR